BEGIN:VCALENDAR
VERSION:2.0
PRODID:-//ChamberMaster//Event Calendar 2.0//EN
METHOD:PUBLISH
X-PUBLISHED-TTL:P3D
REFRESH-INTERVAL:P3D
CALSCALE:GREGORIAN
BEGIN:VEVENT
DTSTART:20150212T160000Z
DTEND:20150212T200000Z
X-MICROSOFT-CDO-ALLDAYEVENT:FALSE
SUMMARY:Love Your Business
DESCRIPTION:Love Your Business Vendor Fair and Networking Luncheon
X-ALT-DESC;FMTTYPE=text/html:Love Your Business Vendor Fair and Networking Luncheon<br />\n<br />\n&nbsp\;
LOCATION:Center for Visual and Performing Arts 1040 Ridge Road Munster\, IN Catering by Trama Catering
UID:e.1835.2585
SEQUENCE:3
DTSTAMP:20260419T164051Z
URL:https://members.munsterchamber.org/events/details/love-your-business-02-12-2015-2585
END:VEVENT

END:VCALENDAR
