BEGIN:VCALENDAR
VERSION:2.0
PRODID:-//ChamberMaster//Event Calendar 2.0//EN
METHOD:PUBLISH
X-PUBLISHED-TTL:P3D
REFRESH-INTERVAL:P3D
CALSCALE:GREGORIAN
BEGIN:VEVENT
DTSTART:20141214T223000Z
DTEND:20141215T020000Z
X-MICROSOFT-CDO-ALLDAYEVENT:FALSE
SUMMARY:Living Nativity\, Soup Supper & Marketplace
DESCRIPTION:Come experience the Nativity Story with live animals! Westminster Presbyterian Church Invites the community to it annual Living Nativity\, Soup Supper & Marketplace Sunday\, December 14\, 2014 from 4:30 pm to 8:00 pm. Nativity performances are at 5:00\, 6:00 & 7:00 pm. Proceeds will benefit missions. For more information you can call WPC at (219)838-3131 or go to our web site at www.wpcmunster.org
X-ALT-DESC;FMTTYPE=text/html:Come experience the Nativity Story with live animals! Westminster Presbyterian Church Invites the community to it annual Living Nativity\, Soup Supper &amp\; Marketplace Sunday\, December 14\, 2014 from 4:30 pm to 8:00 pm. Nativity performances are at 5:00\, 6:00 &amp\; 7:00 pm. Proceeds will benefit missions. For more information you can call WPC at (219)838-3131 or go to our web site at www.wpcmunster.org
LOCATION:The church is located at 8955 Columbia Avenue Munster\, IN 46321 (across the street from Community Hospital)
UID:e.1835.2596
SEQUENCE:3
DTSTAMP:20260419T195805Z
URL:https://members.munsterchamber.org/events/details/living-nativity-soup-supper-marketplace-12-14-2014-2596
END:VEVENT

END:VCALENDAR
