BEGIN:VCALENDAR
VERSION:2.0
PRODID:-//ChamberMaster//Event Calendar 2.0//EN
METHOD:PUBLISH
X-PUBLISHED-TTL:P3D
REFRESH-INTERVAL:P3D
CALSCALE:GREGORIAN
BEGIN:VEVENT
DTSTART:20140827T000000Z
DTEND:20140827T010000Z
X-MICROSOFT-CDO-ALLDAYEVENT:FALSE
SUMMARY:LAUGHTER YOGA 4U
DESCRIPTION:LAUGH MORE ....LAUGH OFTEN... Let LAUGHTER work for U. Get energized and relaxed\, a fun workout\, for all ages and capabilities. No jokes\, or floor excercises....only the breathing of yoga.
X-ALT-DESC;FMTTYPE=text/html:LAUGH MORE ....LAUGH OFTEN... Let LAUGHTER work for U. Get energized and relaxed\, a fun workout\, for all ages and capabilities. No jokes\, or floor excercises....only the breathing of yoga.
LOCATION:lake county public library 1919 w.81st ave. Merrillville\, IN
UID:e.1835.492
SEQUENCE:3
DTSTAMP:20260420T031019Z
URL:https://members.munsterchamber.org/events/details/laughter-yoga-4u-08-26-2014-492
END:VEVENT

END:VCALENDAR
