BEGIN:VCALENDAR
VERSION:2.0
PRODID:-//ChamberMaster//Event Calendar 2.0//EN
METHOD:PUBLISH
X-PUBLISHED-TTL:P3D
REFRESH-INTERVAL:P3D
CALSCALE:GREGORIAN
BEGIN:VEVENT
DTSTART:20140625T000000Z
DTEND:20140625T010000Z
X-MICROSOFT-CDO-ALLDAYEVENT:FALSE
SUMMARY:LAUGHTER YOGA
DESCRIPTION:FREE FOR ALL.. Laugh for the health of it. Fun workout for relaxation\, relieving stress and unity. Combines laughter excercises with yoga breathing. NO jokes. no poses. Only unconditional \, belly laughs to breathe better\, for our immune system and many more benefitsl
X-ALT-DESC;FMTTYPE=text/html:FREE FOR ALL.. Laugh for the health of it. Fun workout for relaxation\, relieving stress and unity. Combines laughter excercises with yoga breathing. NO jokes. no poses. Only unconditional \, belly laughs to breathe better\, for our immune system and many more benefitsl
LOCATION:lake county public library 1919 W. 81st Ave\, Merrillville\, IN.
UID:e.1835.488
SEQUENCE:3
DTSTAMP:20260420T062354Z
URL:https://members.munsterchamber.org/events/details/laughter-yoga-06-24-2014-488
END:VEVENT

END:VCALENDAR
