BEGIN:VCALENDAR
VERSION:2.0
PRODID:-//ChamberMaster//Event Calendar 2.0//EN
METHOD:PUBLISH
X-PUBLISHED-TTL:P3D
REFRESH-INTERVAL:P3D
CALSCALE:GREGORIAN
BEGIN:VEVENT
DTSTART:20140528T000000Z
DTEND:20140528T010000Z
X-MICROSOFT-CDO-ALLDAYEVENT:FALSE
SUMMARY:LAUGHTER YOGA
DESCRIPTION:RELAX AND GET ENERGIZED\, RELIEVE STRESS\, FUN WORKOUT FOR ALL AGES AND CAPABILITIES. NO JOKES OR FLOOR EXCERCISES. ONLY LAUGH AND BREATHE BEST.
X-ALT-DESC;FMTTYPE=text/html:RELAX AND GET ENERGIZED\, RELIEVE STRESS\, FUN WORKOUT FOR ALL AGES AND CAPABILITIES. NO JOKES OR FLOOR EXCERCISES. ONLY LAUGH AND BREATHE BEST.
LOCATION:lAKE CENTRAL PUBLIC LIBRARY 1919 W.81st. Ave. Merrillville\, IN.
UID:e.1835.487
SEQUENCE:3
DTSTAMP:20260420T075147Z
URL:https://members.munsterchamber.org/events/details/laughter-yoga-05-27-2014-487
END:VEVENT

END:VCALENDAR
