BEGIN:VCALENDAR
VERSION:2.0
PRODID:-//ChamberMaster//Event Calendar 2.0//EN
METHOD:PUBLISH
X-PUBLISHED-TTL:P3D
REFRESH-INTERVAL:P3D
CALSCALE:GREGORIAN
BEGIN:VEVENT
DTSTART:20150423T200000Z
DTEND:20150423T220000Z
X-MICROSOFT-CDO-ALLDAYEVENT:FALSE
SUMMARY:Lakeshore Chamber of Commerce Business KEYS
DESCRIPTION:Create a "Culture of Excellence" in Business\n\nFeaturing Larry Galler - TIMES Columnist & Business Coach\n\n\n\nAttendees will learn how to Crush the Vile Mediocrity Monster & create a "Culture of Excellence" in your business.  The workshop will be fun & interactive while learning how to create a "Culture"
X-ALT-DESC;FMTTYPE=text/html:<p>Create a &quot\;Culture of Excellence&quot\; in Business<br />\nFeaturing Larry Galler - TIMES Columnist &amp\; Business Coach<br />\n<br />\nAttendees will learn how to Crush the Vile Mediocrity Monster &amp\; create a &quot\;Culture of Excellence&quot\; in your business.&nbsp\; The workshop will be fun &amp\; interactive while learning how to create a &quot\;Culture&quot\;</p>\n\n<p>&nbsp\;</p>\n
LOCATION:Best Western 3830-179th Street Hammond\, IN 46323
UID:e.1835.2665
SEQUENCE:3
DTSTAMP:20260419T133053Z
URL:https://members.munsterchamber.org/events/details/lakeshore-chamber-of-commerce-business-keys-04-23-2015-2665
END:VEVENT

END:VCALENDAR
