BEGIN:VCALENDAR
VERSION:2.0
PRODID:-//ChamberMaster//Event Calendar 2.0//EN
METHOD:PUBLISH
X-PUBLISHED-TTL:P3D
REFRESH-INTERVAL:P3D
CALSCALE:GREGORIAN
BEGIN:VEVENT
DTSTART:20140607T160000Z
DTEND:20140607T193000Z
X-MICROSOFT-CDO-ALLDAYEVENT:FALSE
SUMMARY:June Tasting with The Gourmet Goddess
DESCRIPTION:Now is your chance to come and taste what The Gourmet Goddess has to offer!  At this month's tasting event we'll be sampling some gourmet pizzas and a great summer salad!  Recipes will be shared and you also get an opportunity to visit a great local gourmet store\, Tasty Olive Company.  Sample their wonderful olive oils and balsamic vinegars to see what new things you might find to please your palate!  It's a great day and free to all.  Please join us!
X-ALT-DESC;FMTTYPE=text/html:Now is your chance to come and taste what The Gourmet Goddess has to offer! &nbsp\;At this month&#39\;s tasting event we&#39\;ll be sampling some gourmet pizzas and a great summer salad! &nbsp\;Recipes will be shared and you also get an opportunity to visit a great local gourmet store\, Tasty Olive Company. &nbsp\;Sample their wonderful olive oils and balsamic vinegars to see what new things you might find to please your palate! &nbsp\;It&#39\;s a great day and free to all. &nbsp\;Please join us!
LOCATION:Tasty Olive Company 2014 45th Avenue (Port De L'eau) Highland\, IN 46322
UID:e.1835.490
SEQUENCE:3
DTSTAMP:20260420T062454Z
URL:https://members.munsterchamber.org/events/details/june-tasting-with-the-gourmet-goddess-06-07-2014-490
END:VEVENT

END:VCALENDAR
