BEGIN:VCALENDAR
VERSION:2.0
PRODID:-//ChamberMaster//Event Calendar 2.0//EN
METHOD:PUBLISH
X-PUBLISHED-TTL:P3D
REFRESH-INTERVAL:P3D
CALSCALE:GREGORIAN
BEGIN:VEVENT
DTSTART:20150801T140000Z
DTEND:20150801T230000Z
X-MICROSOFT-CDO-ALLDAYEVENT:FALSE
SUMMARY:James & Sons Red Carpet VIP Event
DESCRIPTION:Red Carpet VIP Event\n\nThe best values of the year on everything in the store!
X-ALT-DESC;FMTTYPE=text/html:Red Carpet VIP Event<br />\nThe best values of the year on everything in the store!
LOCATION:112 Indianapolis Blvd. Schererville\, IN
UID:e.1835.3020
SEQUENCE:3
DTSTAMP:20260422T001338Z
URL:https://members.munsterchamber.org/events/details/james-sons-red-carpet-vip-event-08-01-2015-3020
END:VEVENT

END:VCALENDAR
