BEGIN:VCALENDAR
VERSION:2.0
PRODID:-//ChamberMaster//Event Calendar 2.0//EN
METHOD:PUBLISH
X-PUBLISHED-TTL:P3D
REFRESH-INTERVAL:P3D
CALSCALE:GREGORIAN
BEGIN:VEVENT
DTSTART:20140621T150000Z
DTEND:20140621T180000Z
X-MICROSOFT-CDO-ALLDAYEVENT:FALSE
SUMMARY:Indiana Tech Open House
DESCRIPTION:Please join us at our Open House Learn about our convenient and flexible degree options
X-ALT-DESC;FMTTYPE=text/html:Please join us at our Open House Learn about our convenient and flexible degree options
LOCATION:9245 Calumet Avenue - Munster\, IN
UID:e.1835.511
SEQUENCE:3
DTSTAMP:20260420T062114Z
URL:https://members.munsterchamber.org/events/details/indiana-tech-open-house-06-21-2014-511
END:VEVENT

END:VCALENDAR
