BEGIN:VCALENDAR
VERSION:2.0
PRODID:-//ChamberMaster//Event Calendar 2.0//EN
METHOD:PUBLISH
X-PUBLISHED-TTL:P3D
REFRESH-INTERVAL:P3D
CALSCALE:GREGORIAN
BEGIN:VEVENT
DTSTART:20150228T230000Z
DTEND:20150301T040000Z
X-MICROSOFT-CDO-ALLDAYEVENT:FALSE
SUMMARY:Humane Society - Hair of the Dog Gala
DESCRIPTION:On February 28\, 2015\, Humane Society Calumet Area (HSCA) will host Hair of\n\nthe Dog\, our 12th annual gala\, at the Radisson Hotel at Star Plaza in Merrillville\,\n\nInd. The evening festivities include a buffet\, cocktails\, a silent auction\, and a hair\n\nand style show unlike any other\, featuring work by Ben Mollin\, known for his\n\nappearance on reality TV show \n\nShear Genius and owner of Ben Mollin Hair\n\nEducation in Griffith\, Ind.\, and the students of Mario Tricoci Schools.
X-ALT-DESC;FMTTYPE=text/html:<p align="LEFT"><font face="MinionPro-Regular">On February 28\, 2015\, Humane Society Calumet Area (HSCA) will host Hair of</font></p>\n\n<p align="LEFT"><font face="MinionPro-Regular">the Dog\, our 12th annual gala\, at the Radisson Hotel at Star Plaza in Merrillville\,</font></p>\n\n<p align="LEFT"><font face="MinionPro-Regular">Ind. The evening festivities include a buffet\, cocktails\, a silent auction\, and a hair</font></p>\n\n<p align="LEFT"><font face="MinionPro-Regular">and style show unlike any other\, featuring work by Ben Mollin\, known for his</font></p>\n\n<p align="LEFT"><font face="MinionPro-Regular">appearance on reality TV show </font></p>\n\n<p align="LEFT"><i><font face="MinionPro-It">Shear Genius </font></i><font face="MinionPro-Regular">and owner of Ben Mollin Hair</font></p>\n\n<p><font face="MinionPro-Regular">Education in Griffith\, Ind.\, and the students of Mario Tricoci Schools.</font></p>\n
LOCATION:The Raddison Hotel at Star Plaza\, Merrillville\, IN
UID:e.1835.2635
SEQUENCE:3
DTSTAMP:20260419T171349Z
URL:https://members.munsterchamber.org/events/details/humane-society-hair-of-the-dog-gala-02-28-2015-2635
END:VEVENT

END:VCALENDAR
