BEGIN:VCALENDAR
VERSION:2.0
PRODID:-//ChamberMaster//Event Calendar 2.0//EN
METHOD:PUBLISH
X-PUBLISHED-TTL:P3D
REFRESH-INTERVAL:P3D
CALSCALE:GREGORIAN
BEGIN:VEVENT
DTSTART:20140921T130000Z
DTEND:20140921T170000Z
X-MICROSOFT-CDO-ALLDAYEVENT:FALSE
SUMMARY:Hospice Hustle
DESCRIPTION:Hospice Hustle\n\n25\, 62\, 100 mile bike race
X-ALT-DESC;FMTTYPE=text/html:Hospice Hustle<br />\n25\, 62\, 100 mile bike race
LOCATION:Lake County Fairgrounds
UID:e.1835.517
SEQUENCE:3
DTSTAMP:20260420T012000Z
URL:https://members.munsterchamber.org/events/details/hospice-hustle-09-21-2014-517
END:VEVENT

END:VCALENDAR
