BEGIN:VCALENDAR
VERSION:2.0
PRODID:-//ChamberMaster//Event Calendar 2.0//EN
METHOD:PUBLISH
X-PUBLISHED-TTL:P3D
REFRESH-INTERVAL:P3D
CALSCALE:GREGORIAN
BEGIN:VEVENT
DTSTART:20151210T180000Z
DTEND:20151210T180000Z
X-MICROSOFT-CDO-ALLDAYEVENT:FALSE
SUMMARY:Holiday Pops
DESCRIPTION:Get into the spirit of the season with our festive Holiday Pops. With a combination of contemporary and classic holiday music\, you?re sure to hear your favorites.
X-ALT-DESC;FMTTYPE=text/html:Get into the spirit of the season with our festive Holiday Pops. With a combination of contemporary and classic holiday music\, you?re sure to hear your favorites.
LOCATION:Star Plaza Theatre
UID:e.1835.2882
SEQUENCE:3
DTSTAMP:20260421T192319Z
URL:https://members.munsterchamber.org/events/details/holiday-pops-12-10-2015-2882
END:VEVENT

END:VCALENDAR
