BEGIN:VCALENDAR
VERSION:2.0
PRODID:-//ChamberMaster//Event Calendar 2.0//EN
METHOD:PUBLISH
X-PUBLISHED-TTL:P3D
REFRESH-INTERVAL:P3D
CALSCALE:GREGORIAN
BEGIN:VEVENT
DTSTART:20140812T133000Z
DTEND:20140812T143000Z
X-MICROSOFT-CDO-ALLDAYEVENT:FALSE
SUMMARY:Golf Outing Committee Meeting
DESCRIPTION:2014 Golf Committee Meeting\n\nStatus Update
X-ALT-DESC;FMTTYPE=text/html:2014 Golf Committee Meeting<br />\nStatus Update
LOCATION:Center for Visual and Performing Arts
UID:e.1835.521
SEQUENCE:3
DTSTAMP:20260420T025119Z
URL:https://members.munsterchamber.org/events/details/golf-outing-committee-meeting-08-12-2014-521
END:VEVENT

END:VCALENDAR
