BEGIN:VCALENDAR
VERSION:2.0
PRODID:-//ChamberMaster//Event Calendar 2.0//EN
METHOD:PUBLISH
X-PUBLISHED-TTL:P3D
REFRESH-INTERVAL:P3D
CALSCALE:GREGORIAN
BEGIN:VEVENT
DTSTART:20150909T160000Z
DTEND:20150910T010000Z
X-MICROSOFT-CDO-ALLDAYEVENT:FALSE
SUMMARY:Golf Outing 2015
DESCRIPTION:Want to go home the Munster Chamber Golf Champion? Join the Munster Masters at the 55th Annual Munster Chamber of Commerce Golf Outing
X-ALT-DESC;FMTTYPE=text/html:<span style="font-size: 16px\;"><strong><span style="color: rgb(0\, 128\, 0)\;"><em>Want to go home the Munster Chamber Golf Champion? </em></span><em>Join the Munster Masters</em><span style="color: rgb(0\, 128\, 0)\;"><em>&nbsp\;</em></span></strong>at the 55th Annual Munster Chamber of Commerce Golf Outing</span>
LOCATION:Centennial Park Golf Course Munster\, IN
UID:e.1835.2835
SEQUENCE:3
DTSTAMP:20260421T225922Z
URL:https://members.munsterchamber.org/events/details/golf-outing-2015-09-09-2015-2835
END:VEVENT

END:VCALENDAR
