BEGIN:VCALENDAR
VERSION:2.0
PRODID:-//ChamberMaster//Event Calendar 2.0//EN
METHOD:PUBLISH
X-PUBLISHED-TTL:P3D
REFRESH-INTERVAL:P3D
CALSCALE:GREGORIAN
BEGIN:VEVENT
DTSTART:20140910T160000Z
DTEND:20140911T010000Z
X-MICROSOFT-CDO-ALLDAYEVENT:FALSE
SUMMARY:Golf Outing 2014
DESCRIPTION:Want to go home the Munster Chamber Golf Champion? Join the Munster Masters at the 54th Annual Munster Chamber of Commerce Golf Outing
X-ALT-DESC;FMTTYPE=text/html:<span style="font-size: 16px\;"><strong><span style="color: rgb(0\, 128\, 0)\;"><em>Want to go home the Munster Chamber Golf Champion? </em></span><em>Join the Munster Masters</em><span style="color: rgb(0\, 128\, 0)\;"><em>&nbsp\;</em></span></strong>at the 54th Annual Munster Chamber of Commerce Golf Outing</span>
LOCATION:Centennial Park Golf Course Munster\, IN
UID:e.1835.3
SEQUENCE:3
DTSTAMP:20260420T011639Z
URL:https://members.munsterchamber.org/events/details/golf-outing-2014-09-10-2014-3
END:VEVENT

END:VCALENDAR
