BEGIN:VCALENDAR
VERSION:2.0
PRODID:-//ChamberMaster//Event Calendar 2.0//EN
METHOD:PUBLISH
X-PUBLISHED-TTL:P3D
REFRESH-INTERVAL:P3D
CALSCALE:GREGORIAN
BEGIN:VEVENT
DTSTART:20130912T163000Z
DTEND:20130912T180000Z
X-MICROSOFT-CDO-ALLDAYEVENT:FALSE
SUMMARY:General Membership Meeting-September 2013
DESCRIPTION:General Membership Meeting   \n\nSeptember Guest Speakers:  Don Erminger and Bill Bach\, Strack and VanTil
X-ALT-DESC;FMTTYPE=text/html:General Membership Meeting&nbsp\;&nbsp\;&nbsp\;<br />\nSeptember Guest Speakers:&nbsp\; Don Erminger and Bill Bach\, Strack and VanTil&nbsp\;
LOCATION:Ridge United Methodist Church Catering by: Strack and VanTil
UID:e.1835.6
SEQUENCE:3
DTSTAMP:20260420T181618Z
URL:https://members.munsterchamber.org/events/details/general-membership-meeting-september-2013-09-12-2013-6
END:VEVENT

END:VCALENDAR
