BEGIN:VCALENDAR
VERSION:2.0
PRODID:-//ChamberMaster//Event Calendar 2.0//EN
METHOD:PUBLISH
X-PUBLISHED-TTL:P3D
REFRESH-INTERVAL:P3D
CALSCALE:GREGORIAN
BEGIN:VEVENT
DTSTART:20131212T173000Z
DTEND:20131212T190000Z
X-MICROSOFT-CDO-ALLDAYEVENT:FALSE
SUMMARY:General Membership Meeting December2013
DESCRIPTION:General Membership Meeting\n\nReview ChamberMaster\n\n5 year plan overview
X-ALT-DESC;FMTTYPE=text/html:General Membership Meeting<br />\nReview ChamberMaster<br />\n5 year plan overview
LOCATION:Centennial Park
UID:e.1835.9
SEQUENCE:3
DTSTAMP:20260420T141025Z
URL:https://members.munsterchamber.org/events/details/general-membership-meeting-december2013-12-12-2013-9
END:VEVENT

END:VCALENDAR
