BEGIN:VCALENDAR
VERSION:2.0
PRODID:-//ChamberMaster//Event Calendar 2.0//EN
METHOD:PUBLISH
X-PUBLISHED-TTL:P3D
REFRESH-INTERVAL:P3D
CALSCALE:GREGORIAN
BEGIN:VEVENT
DTSTART:20130808T163000Z
DTEND:20130808T180000Z
X-MICROSOFT-CDO-ALLDAYEVENT:FALSE
SUMMARY:General Membership Meeting-August 2013
DESCRIPTION:General Membership Meeting  \n\nAugust Featured Speaker:  Ken Schoon\, Indiana University Northwest
X-ALT-DESC;FMTTYPE=text/html:General Membership Meeting&nbsp\;&nbsp\;<br />\nAugust Featured Speaker:&nbsp\; Ken Schoon\,&nbsp\;Indiana&nbsp\;University Northwest&nbsp\;&nbsp\;
LOCATION:Ridge United Methodist Church Catering by: El Salto Restaurant\, Munster\, IN
UID:e.1835.5
SEQUENCE:3
DTSTAMP:20260420T203529Z
URL:https://members.munsterchamber.org/events/details/general-membership-meeting-august-2013-08-08-2013-5
END:VEVENT

END:VCALENDAR
