BEGIN:VCALENDAR
VERSION:2.0
PRODID:-//ChamberMaster//Event Calendar 2.0//EN
METHOD:PUBLISH
X-PUBLISHED-TTL:P3D
REFRESH-INTERVAL:P3D
CALSCALE:GREGORIAN
BEGIN:VEVENT
DTSTART:20141211T173000Z
DTEND:20141211T190000Z
X-MICROSOFT-CDO-ALLDAYEVENT:FALSE
SUMMARY:General Membership Meeting
DESCRIPTION:General Membership Meeting \n\n2015 Chamber Preview
X-ALT-DESC;FMTTYPE=text/html:General Membership Meeting&nbsp\;<br />\n2015 Chamber Preview<br />\n&nbsp\;<br />\n&nbsp\;
LOCATION:Ridge United Methodist Church 8607 Columbia Avenue Munster\, IN 46321 Caterer: Van Til's
UID:e.1835.291
SEQUENCE:3
DTSTAMP:20260419T200247Z
URL:https://members.munsterchamber.org/events/details/general-membership-meeting-12-11-2014-291
END:VEVENT

END:VCALENDAR
