BEGIN:VCALENDAR
VERSION:2.0
PRODID:-//ChamberMaster//Event Calendar 2.0//EN
METHOD:PUBLISH
X-PUBLISHED-TTL:P3D
REFRESH-INTERVAL:P3D
CALSCALE:GREGORIAN
BEGIN:VEVENT
DTSTART:20141113T173000Z
DTEND:20141113T190000Z
X-MICROSOFT-CDO-ALLDAYEVENT:FALSE
SUMMARY:General Membership Meeting
DESCRIPTION:General Membership Meeting \n\nFeatured Speaker\n\nBetter Business Bureau\n\nConnie Kann\n\nStrack and Van Til Catering
X-ALT-DESC;FMTTYPE=text/html:General Membership Meeting&nbsp\;<br />\nFeatured Speaker<br />\nBetter Business Bureau<br />\nConnie Kann<br />\nStrack and Van Til Catering<br />\n&nbsp\;<br />\n&nbsp\;
LOCATION:Ridge United Methodist Church 8607 Ridge Road Munster\, IN
UID:e.1835.290
SEQUENCE:3
DTSTAMP:20260419T214828Z
URL:https://members.munsterchamber.org/events/details/general-membership-meeting-11-13-2014-290
END:VEVENT

END:VCALENDAR
