BEGIN:VCALENDAR
VERSION:2.0
PRODID:-//ChamberMaster//Event Calendar 2.0//EN
METHOD:PUBLISH
X-PUBLISHED-TTL:P3D
REFRESH-INTERVAL:P3D
CALSCALE:GREGORIAN
BEGIN:VEVENT
DTSTART:20151112T173000Z
DTEND:20151112T190000Z
X-MICROSOFT-CDO-ALLDAYEVENT:FALSE
SUMMARY:General Membership Meeting - 11/12/2015
DESCRIPTION:General Membership Meeting \n\nDean DeLisle\n\nForward Progress \n\n\n\nTackling Social Media
X-ALT-DESC;FMTTYPE=text/html:General Membership Meeting&nbsp\;<br />\nDean DeLisle<br />\nForward Progress&nbsp\;<br />\n<br />\nTackling Social Media
LOCATION:Ridge United Methodist Church 8607 Columbia Avenue Munster\, IN 46321 Catering Strack and Van Til
UID:e.1835.2845
SEQUENCE:3
DTSTAMP:20260421T203757Z
URL:https://members.munsterchamber.org/events/details/general-membership-meeting-11-12-2015-11-12-2015-2845
END:VEVENT

END:VCALENDAR
