BEGIN:VCALENDAR
VERSION:2.0
PRODID:-//ChamberMaster//Event Calendar 2.0//EN
METHOD:PUBLISH
X-PUBLISHED-TTL:P3D
REFRESH-INTERVAL:P3D
CALSCALE:GREGORIAN
BEGIN:VEVENT
DTSTART:20141009T163000Z
DTEND:20141009T180000Z
X-MICROSOFT-CDO-ALLDAYEVENT:FALSE
SUMMARY:General Membership Meeting
DESCRIPTION:General Membership Meeting \n\nNot So Scary Networking Luncheon\n\nShare your Elevator Speech
X-ALT-DESC;FMTTYPE=text/html:General Membership Meeting&nbsp\;<br />\nNot So Scary Networking Luncheon<br />\nShare your Elevator Speech<br />\n&nbsp\;<br />\n&nbsp\;
LOCATION:Southside Christian Church 1000 Broadmoor Avenue Munster\, IN Catering: Edwardo's Natural Pizza You will select your pizza choice when you register
UID:e.1835.289
SEQUENCE:3
DTSTAMP:20260419T233358Z
URL:https://members.munsterchamber.org/events/details/general-membership-meeting-10-09-2014-289
END:VEVENT

END:VCALENDAR
