BEGIN:VCALENDAR
VERSION:2.0
PRODID:-//ChamberMaster//Event Calendar 2.0//EN
METHOD:PUBLISH
X-PUBLISHED-TTL:P3D
REFRESH-INTERVAL:P3D
CALSCALE:GREGORIAN
BEGIN:VEVENT
DTSTART:20140911T163000Z
DTEND:20140911T180000Z
X-MICROSOFT-CDO-ALLDAYEVENT:FALSE
SUMMARY:General Membership Meeting
DESCRIPTION:General Membership Meeting \n\nFeatured Topic\n\nHow to Prepare the Perfect Elevator Speech\n\n Caterer: El Salto Restaurant\n\nSpeaker: Adam Gawlikowski\, President and CEO\, Applied Leadership Services\, Inc.
X-ALT-DESC;FMTTYPE=text/html:General Membership Meeting&nbsp\;<br />\nFeatured Topic<br />\nHow to&nbsp\;Prepare the Perfect Elevator Speech<br />\n&nbsp\;<span>Caterer: El Salto Restaurant</span>\n\n<p _mce_style="margin: 0in 0in 10pt\;" style="margin: 0in 0in 10pt\;"><span>Speaker: Adam Gawlikowski\, President and CEO\, Applied Leadership Services\, Inc.</span></p>\n
LOCATION:Ridge United Methodist Church 8607 Columbia Avenue Munster\, IN 46321
UID:e.1835.288
SEQUENCE:3
DTSTAMP:20260420T012948Z
URL:https://members.munsterchamber.org/events/details/general-membership-meeting-09-11-2014-288
END:VEVENT

END:VCALENDAR
