BEGIN:VCALENDAR
VERSION:2.0
PRODID:-//ChamberMaster//Event Calendar 2.0//EN
METHOD:PUBLISH
X-PUBLISHED-TTL:P3D
REFRESH-INTERVAL:P3D
CALSCALE:GREGORIAN
BEGIN:VEVENT
DTSTART:20140814T163000Z
DTEND:20140814T180000Z
X-MICROSOFT-CDO-ALLDAYEVENT:FALSE
SUMMARY:General Membership Meeting
DESCRIPTION:General Membership Meeting \n\nAugust 14\, 2014\n\n\n\nFeatured Speaker\n\nHeather Ennis\n\nPresident and CEO\n\nNorthwest Indiana Forum
X-ALT-DESC;FMTTYPE=text/html:General Membership Meeting&nbsp\;<br />\nAugust 14\, 2014<br />\n<br />\nFeatured Speaker<br />\nHeather Ennis<br />\nPresident and CEO<br />\nNorthwest Indiana Forum<br />\n&nbsp\;<br />\n&nbsp\;
LOCATION:Ridge United Methodist Church 8607 Columbia Avenue Munster\, IN
UID:e.1835.287
SEQUENCE:3
DTSTAMP:20260420T024945Z
URL:https://members.munsterchamber.org/events/details/general-membership-meeting-08-14-2014-287
END:VEVENT

END:VCALENDAR
