BEGIN:VCALENDAR
VERSION:2.0
PRODID:-//ChamberMaster//Event Calendar 2.0//EN
METHOD:PUBLISH
X-PUBLISHED-TTL:P3D
REFRESH-INTERVAL:P3D
CALSCALE:GREGORIAN
BEGIN:VEVENT
DTSTART:20130711T163000Z
DTEND:20130711T180000Z
X-MICROSOFT-CDO-ALLDAYEVENT:FALSE
SUMMARY:General Membership Meeting
DESCRIPTION:General Membership Meeting  \n\nJuly Featured Speaker:  Roger Vogle - Fitness Pointe and New Healthy Me Director\, Community Healthcare System  \n\nBest Practices of an Employee Wellness Program
X-ALT-DESC;FMTTYPE=text/html:General Membership Meeting&nbsp\;&nbsp\;<br />\nJuly Featured Speaker:&nbsp\; Roger Vogle - Fitness Pointe and New Healthy Me Director\, Community Healthcare System&nbsp\;&nbsp\;<br />\nBest Practices of an Employee Wellness Program
LOCATION:Center for Visual and Performing Arts 1040 Ridge Road Munster\, IN Catering by Trama Catering
UID:e.1835.4
SEQUENCE:3
DTSTAMP:20260420T210624Z
URL:https://members.munsterchamber.org/events/details/general-membership-meeting-07-11-2013-4
END:VEVENT

END:VCALENDAR
