BEGIN:VCALENDAR
VERSION:2.0
PRODID:-//ChamberMaster//Event Calendar 2.0//EN
METHOD:PUBLISH
X-PUBLISHED-TTL:P3D
REFRESH-INTERVAL:P3D
CALSCALE:GREGORIAN
BEGIN:VEVENT
DTSTART:20140710T163000Z
DTEND:20140710T180000Z
X-MICROSOFT-CDO-ALLDAYEVENT:FALSE
SUMMARY:General Membership Meeting
DESCRIPTION:General Membership Meeting \n\nFeatured Speaker\n\nCarla Meyer\,\n\nDirector of Patient Care Services\n\nCommunity Hospital
X-ALT-DESC;FMTTYPE=text/html:General Membership Meeting&nbsp\;<br />\nFeatured Speaker<br />\nCarla Meyer\,<br />\nDirector of Patient Care Services<br />\nCommunity Hospital<br />\n&nbsp\;<br />\n&nbsp\;
LOCATION:Centennial Park 900 N Centennial Drive Munster\, Indiana
UID:e.1835.286
SEQUENCE:3
DTSTAMP:20260420T050447Z
URL:https://members.munsterchamber.org/events/details/general-membership-meeting-07-10-2014-286
END:VEVENT

END:VCALENDAR
