BEGIN:VCALENDAR
VERSION:2.0
PRODID:-//ChamberMaster//Event Calendar 2.0//EN
METHOD:PUBLISH
X-PUBLISHED-TTL:P3D
REFRESH-INTERVAL:P3D
CALSCALE:GREGORIAN
BEGIN:VEVENT
DTSTART:20140612T163000Z
DTEND:20140612T180000Z
X-MICROSOFT-CDO-ALLDAYEVENT:FALSE
SUMMARY:General Membership Meeting
DESCRIPTION:General Membership Meeting\n\nFeatured Speaker\n\nBob Heisse\n\nEditor\n\nThe Times Media Company
X-ALT-DESC;FMTTYPE=text/html:General Membership Meeting<br />\nFeatured Speaker<br />\nBob Heisse<br />\nEditor<br />\nThe Times Media Company<br />\n&nbsp\;<br />\n&nbsp\;
LOCATION:CHANGE OF LOCATION TO: Ridge United Methodist Church 8607 Columbia Avenue Munster\, IN
UID:e.1835.285
SEQUENCE:3
DTSTAMP:20260420T062340Z
URL:https://members.munsterchamber.org/events/details/general-membership-meeting-06-12-2014-285
END:VEVENT

END:VCALENDAR
