BEGIN:VCALENDAR
VERSION:2.0
PRODID:-//ChamberMaster//Event Calendar 2.0//EN
METHOD:PUBLISH
X-PUBLISHED-TTL:P3D
REFRESH-INTERVAL:P3D
CALSCALE:GREGORIAN
BEGIN:VEVENT
DTSTART:20140508T163000Z
DTEND:20140508T180000Z
X-MICROSOFT-CDO-ALLDAYEVENT:FALSE
SUMMARY:General Membership Meeting
DESCRIPTION:General Membership Meeting \n\n\n\nCome for the luncheon and stay for a round of golf!
X-ALT-DESC;FMTTYPE=text/html:General Membership Meeting&nbsp\;<br />\n<br />\nCome for the luncheon and stay for a round of golf!<br />\n&nbsp\;<br />\n&nbsp\;
LOCATION:Lansing Country Club 18600 Wentworth Avenue Lansing\, IL 60438
UID:e.1835.284
SEQUENCE:3
DTSTAMP:20260420T075244Z
URL:https://members.munsterchamber.org/events/details/general-membership-meeting-05-08-2014-284
END:VEVENT

END:VCALENDAR
