BEGIN:VCALENDAR
VERSION:2.0
PRODID:-//ChamberMaster//Event Calendar 2.0//EN
METHOD:PUBLISH
X-PUBLISHED-TTL:P3D
REFRESH-INTERVAL:P3D
CALSCALE:GREGORIAN
BEGIN:VEVENT
DTSTART:20140313T163000Z
DTEND:20140313T180000Z
X-MICROSOFT-CDO-ALLDAYEVENT:FALSE
SUMMARY:General Membership Meeting
DESCRIPTION:General Membership Meeting
X-ALT-DESC;FMTTYPE=text/html:General Membership Meeting&nbsp\;&nbsp\;<br />\n&nbsp\;<br />\n&nbsp\;
LOCATION:Center for Visual and Performing Arts 1040 Ridge Road Munster\, IN 46321
UID:e.1835.282
SEQUENCE:3
DTSTAMP:20260420T105614Z
URL:https://members.munsterchamber.org/events/details/general-membership-meeting-03-13-2014-282
END:VEVENT

END:VCALENDAR
