BEGIN:VCALENDAR
VERSION:2.0
PRODID:-//ChamberMaster//Event Calendar 2.0//EN
METHOD:PUBLISH
X-PUBLISHED-TTL:P3D
REFRESH-INTERVAL:P3D
CALSCALE:GREGORIAN
BEGIN:VEVENT
DTSTART:20150312T163000Z
DTEND:20150312T190000Z
X-MICROSOFT-CDO-ALLDAYEVENT:FALSE
SUMMARY:General Membership Meeting
DESCRIPTION:General Membership Meeting  \n\nGuest Speaker:  Dr. Jeff Hendrix\, School Town of Munster\n\nDr. Hendrix plans to present a community update on the financial situation of the School Town of Munster. We expect the meeting to run long.  The business portion of the meeting as well as the door prizes will be shifted to the start of the meeting.
X-ALT-DESC;FMTTYPE=text/html:General Membership Meeting&nbsp\;&nbsp\;<br />\nGuest Speaker:&nbsp\; Dr. Jeff Hendrix\, School Town of Munster<br />\nDr. Hendrix plans to present a community update on the financial situation of the School Town of Munster. We expect the meeting to run long.&nbsp\; The business portion of the meeting as well as the door prizes will be shifted to the start of the meeting.<br />\n<br />\n&nbsp\;
LOCATION:Center for Visual and Performing Arts 1040 Ridge Road Munster\, IN
UID:e.1835.2586
SEQUENCE:3
DTSTAMP:20260419T152937Z
URL:https://members.munsterchamber.org/events/details/general-membership-meeting-03-12-2015-2586
END:VEVENT

END:VCALENDAR
