BEGIN:VCALENDAR
VERSION:2.0
PRODID:-//ChamberMaster//Event Calendar 2.0//EN
METHOD:PUBLISH
X-PUBLISHED-TTL:P3D
REFRESH-INTERVAL:P3D
CALSCALE:GREGORIAN
BEGIN:VEVENT
DTSTART:20150108T173000Z
DTEND:20150108T190000Z
X-MICROSOFT-CDO-ALLDAYEVENT:FALSE
SUMMARY:General Membership Meeting
DESCRIPTION:General Membership Meeting  \n\n2014 Year in Review and\n\nDustin Anderson\, Town of Munster Town Manager
X-ALT-DESC;FMTTYPE=text/html:General Membership Meeting&nbsp\;&nbsp\;<br />\n2014 Year in Review and<br />\nDustin Anderson\, Town of Munster Town Manager<br />\n&nbsp\;
LOCATION:Center for Visual and Performing Arts 1040 Ridge Road Munster\, IN Catering by Trama Catering
UID:e.1835.2584
SEQUENCE:3
DTSTAMP:20260419T181423Z
URL:https://members.munsterchamber.org/events/details/general-membership-meeting-01-08-2015-2584
END:VEVENT

END:VCALENDAR
