BEGIN:VCALENDAR
VERSION:2.0
PRODID:-//ChamberMaster//Event Calendar 2.0//EN
METHOD:PUBLISH
X-PUBLISHED-TTL:P3D
REFRESH-INTERVAL:P3D
CALSCALE:GREGORIAN
BEGIN:VEVENT
DTSTART;VALUE=DATE:20160427
DTEND;VALUE=DATE:20160428
TRANSP:TRANSPARENT
X-MICROSOFT-CDO-ALLDAYEVENT:TRUE
SUMMARY:Gailmard Trunk Show
DESCRIPTION:
X-ALT-DESC;FMTTYPE=text/html:
LOCATION:Gailmard Eye Center Jill Harder 630 Ridge Road Munster\, IN
UID:e.1835.3252
SEQUENCE:3
DTSTAMP:20260421T141254Z
URL:https://members.munsterchamber.org/events/details/gailmard-trunk-show-04-27-2016-3252
END:VEVENT

END:VCALENDAR
