BEGIN:VCALENDAR
VERSION:2.0
PRODID:-//ChamberMaster//Event Calendar 2.0//EN
METHOD:PUBLISH
X-PUBLISHED-TTL:P3D
REFRESH-INTERVAL:P3D
CALSCALE:GREGORIAN
BEGIN:VEVENT
DTSTART:20150208T170000Z
DTEND:20150208T200000Z
X-MICROSOFT-CDO-ALLDAYEVENT:FALSE
SUMMARY:Friends & Fashion
DESCRIPTION:The Friends of Hospice and Eco Chic Boutique present\n\nFriends and Fashion\n\n\n\nJoin us for a lively and stylish afternoon\n\n* Wine and Cheese Reception\n\n* Boutique Shopping\n\n* Luncheon\n\n* Fashion Show\n\nVoted The Times 2014 Best in Region\, Eco Chic Boutique offers a unique blend of new and previously owned women's apparel and accessories\, featuring designers such as Ann Taylor\, Chico's \, Liz Claiborne\, J Crew\, Prada\, Coach\, Calvin Klein...and many more!
X-ALT-DESC;FMTTYPE=text/html:<div style="text-align: center\;">The<em> Friends of Hospice</em> and <em>Eco Chic Boutique</em> present</div>\n\n<h2 style="text-align: center\; font-style: italic\;"><strong>Friends and Fashion</strong><br />\n<br />\nJoin us for a lively and stylish afternoon<br />\n* Wine and Cheese Reception<br />\n* Boutique Shopping<br />\n* Luncheon<br />\n* Fashion Show<br />\nVoted The Times 2014 Best in Region\, <strong>Eco Chic Boutique</strong> offers a unique blend of new and previously owned women&#39\;s apparel and accessories\, featuring designers such as Ann Taylor\, Chico&#39\;s \, Liz Claiborne\, J Crew\, Prada\, Coach\, Calvin Klein...and many more!</h2>\n
LOCATION:Halls of St. George\, 905 E. Joliet St.\, Schererville\, IN
UID:e.1835.2643
SEQUENCE:3
DTSTAMP:20260419T163923Z
URL:https://members.munsterchamber.org/events/details/friends-fashion-02-08-2015-2643
END:VEVENT

END:VCALENDAR
