BEGIN:VCALENDAR
VERSION:2.0
PRODID:-//ChamberMaster//Event Calendar 2.0//EN
METHOD:PUBLISH
X-PUBLISHED-TTL:P3D
REFRESH-INTERVAL:P3D
CALSCALE:GREGORIAN
BEGIN:VEVENT
DTSTART:20151208T140000Z
DTEND:20151208T150000Z
X-MICROSOFT-CDO-ALLDAYEVENT:FALSE
SUMMARY:Five year Plan meeting
DESCRIPTION:Five Year Plan updated in 2014
X-ALT-DESC;FMTTYPE=text/html:<a href="http://cloud.chambermaster.com/userfiles/UserFiles/chambers/1835/File/FiveYearPlan2014update.docx">Five Year Plan updated in 2014</a>
LOCATION:Munster Chamber Office
UID:e.1835.3216
SEQUENCE:3
DTSTAMP:20260421T203543Z
URL:https://members.munsterchamber.org/events/details/five-year-plan-meeting-12-08-2015-3216
END:VEVENT

END:VCALENDAR
