BEGIN:VCALENDAR
VERSION:2.0
PRODID:-//ChamberMaster//Event Calendar 2.0//EN
METHOD:PUBLISH
X-PUBLISHED-TTL:P3D
REFRESH-INTERVAL:P3D
CALSCALE:GREGORIAN
BEGIN:VEVENT
DTSTART:20140622T140000Z
DTEND:20140622T200000Z
X-MICROSOFT-CDO-ALLDAYEVENT:FALSE
SUMMARY:Family Arts Festival
DESCRIPTION:
X-ALT-DESC;FMTTYPE=text/html:
LOCATION:The Center for Visual and Performing Arts
UID:e.1835.463
SEQUENCE:3
DTSTAMP:20260420T062651Z
URL:https://members.munsterchamber.org/events/details/family-arts-festival-06-22-2014-463
END:VEVENT

END:VCALENDAR
