BEGIN:VCALENDAR
VERSION:2.0
PRODID:-//ChamberMaster//Event Calendar 2.0//EN
METHOD:PUBLISH
X-PUBLISHED-TTL:P3D
REFRESH-INTERVAL:P3D
CALSCALE:GREGORIAN
BEGIN:VEVENT
DTSTART:20131001T130000Z
DTEND:20131001T130000Z
X-MICROSOFT-CDO-ALLDAYEVENT:FALSE
SUMMARY:Executive Board Meeting-October 2013
DESCRIPTION:Executive Board Meeting
X-ALT-DESC;FMTTYPE=text/html:Executive Board Meeting&nbsp\;&nbsp\;&nbsp\;&nbsp\;
LOCATION:Commander Restaurant
UID:e.1835.275
SEQUENCE:3
DTSTAMP:20260420T170502Z
URL:https://members.munsterchamber.org/events/details/executive-board-meeting-october-2013-10-01-2013-275
END:VEVENT

END:VCALENDAR
