BEGIN:VCALENDAR
VERSION:2.0
PRODID:-//ChamberMaster//Event Calendar 2.0//EN
METHOD:PUBLISH
X-PUBLISHED-TTL:P3D
REFRESH-INTERVAL:P3D
CALSCALE:GREGORIAN
BEGIN:VEVENT
DTSTART:20141202T140000Z
DTEND:20141202T150000Z
X-MICROSOFT-CDO-ALLDAYEVENT:FALSE
SUMMARY:Executive Board Meeting
DESCRIPTION:Executive Board Meeting
X-ALT-DESC;FMTTYPE=text/html:&nbsp\;Executive Board Meeting
LOCATION:Munster Chamber Office
UID:e.1835.426
SEQUENCE:3
DTSTAMP:20260419T195738Z
URL:https://members.munsterchamber.org/events/details/executive-board-meeting-12-02-2014-426
END:VEVENT

END:VCALENDAR
