BEGIN:VCALENDAR
VERSION:2.0
PRODID:-//ChamberMaster//Event Calendar 2.0//EN
METHOD:PUBLISH
X-PUBLISHED-TTL:P3D
REFRESH-INTERVAL:P3D
CALSCALE:GREGORIAN
BEGIN:VEVENT
DTSTART:20150805T130000Z
DTEND:20150805T140000Z
X-MICROSOFT-CDO-ALLDAYEVENT:FALSE
SUMMARY:Executive Board Meeting
DESCRIPTION:The date has changed to WEDNESDAY August 5th\n\nExecutive Board Meeting
X-ALT-DESC;FMTTYPE=text/html:The date has changed to WEDNESDAY August 5th<br />\nExecutive Board Meeting
LOCATION:Commander Restaurant
UID:e.1835.2889
SEQUENCE:3
DTSTAMP:20260422T000911Z
URL:https://members.munsterchamber.org/events/details/executive-board-meeting-08-05-2015-2889
END:VEVENT

END:VCALENDAR
