BEGIN:VCALENDAR
VERSION:2.0
PRODID:-//ChamberMaster//Event Calendar 2.0//EN
METHOD:PUBLISH
X-PUBLISHED-TTL:P3D
REFRESH-INTERVAL:P3D
CALSCALE:GREGORIAN
BEGIN:VEVENT
DTSTART:20140506T130000Z
DTEND:20140506T140000Z
X-MICROSOFT-CDO-ALLDAYEVENT:FALSE
SUMMARY:Executive Board Meeting
DESCRIPTION:Executive Board Meeting
X-ALT-DESC;FMTTYPE=text/html:&nbsp\;Executive Board Meeting
LOCATION:Commander Restaurant
UID:e.1835.419
SEQUENCE:3
DTSTAMP:20260420T075032Z
URL:https://members.munsterchamber.org/events/details/executive-board-meeting-05-06-2014-419
END:VEVENT

END:VCALENDAR
