BEGIN:VCALENDAR
VERSION:2.0
PRODID:-//ChamberMaster//Event Calendar 2.0//EN
METHOD:PUBLISH
X-PUBLISHED-TTL:P3D
REFRESH-INTERVAL:P3D
CALSCALE:GREGORIAN
BEGIN:VEVENT
DTSTART:20160105T140000Z
DTEND:20160105T150000Z
X-MICROSOFT-CDO-ALLDAYEVENT:FALSE
SUMMARY:Executive Board Meeting
DESCRIPTION:Executive Board Meeting  - Please bring your own copy of the agenda\n\n\n\nCLICK HERE TO VIEW MEETING AGENDA
X-ALT-DESC;FMTTYPE=text/html:Executive Board Meeting&nbsp\; - <u>Please bring your own copy of the agenda</u><br />\n<br />\n<a href="http://cloud.chambermaster.com/userfiles/UserFiles/chambers/1835/File/2016JanuaryexecBoardAgenda.docx">CLICK HERE TO VIEW MEETING AGENDA</a>
LOCATION:Commander Restaurant
UID:e.1835.2894
SEQUENCE:3
DTSTAMP:20260421T180321Z
URL:https://members.munsterchamber.org/events/details/executive-board-meeting-01-05-2016-2894
END:VEVENT

END:VCALENDAR
