BEGIN:VCALENDAR
VERSION:2.0
PRODID:-//ChamberMaster//Event Calendar 2.0//EN
METHOD:PUBLISH
X-PUBLISHED-TTL:P3D
REFRESH-INTERVAL:P3D
CALSCALE:GREGORIAN
BEGIN:VEVENT
DTSTART:20140302T000000Z
DTEND:20140302T040000Z
X-MICROSOFT-CDO-ALLDAYEVENT:FALSE
SUMMARY:Event at Planting Possibilities
DESCRIPTION:Planting Possibilities will host our Spring Event\, "Spring Thaw"\,  on Saturday\, March 1 at 6:00 p.m. at Innsbrook Country Club in Merrillville.\n\nTickets are $75 per person for this evening of Latin   inspired fun. Attendees are invited to enter their favorite salsa in our salsa tasting contest\, followed by a tapas-style\, south-of-the-border dinner. To keep up the heat\, we'll have salsa dancers show us all how to salsa dance! We promise you an evening that will THAW YOU OUT! \n\nTickets must be purchased in advance by visiting our website at http://www.plantingpossibilities.org/\, emailing info@plantingpossibilities.org\, or calling 219-237-9353.\n\nPlanting Possibilities is a non-profit organization whose mission is to build a greenhouse that employs\, job-trains\, and offers meaningful daily activities to  adults with intellectual and developmental disabilities in Lake County\, Indiana.\n\nProceeds from this event will help finance our gardening education program this Spring in collaboration with Campagna Academy in Schererville.
X-ALT-DESC;FMTTYPE=text/html:<div style="margin: 0in 0in 10pt\; font-family: arial\, helvetica\, sans-serif\; font-size: 16px\;"><span style="font-size: 14pt\;">Planting Possibilities will host&nbsp\;our Spring Event\, &ldquo\;Spring Thaw&rdquo\;\,&nbsp\;&nbsp\;on&nbsp\;<span class="aBn" data-term="goog_774825982" style="top: -2px\; border-bottom-color: rgb(204\, 204\, 204)\; border-bottom-width: 1px\; border-bottom-style: dashed\; position: relative\; z-index: 0\;" tabindex="0"><span class="aQJ" style="top: 2px\; position: relative\; z-index: -1\;">Saturday\, March 1 at 6:00 p.m</span></span>. at&nbsp\;Innsbrook Country Club&nbsp\;in Merrillville.</span></div>\n\n<div style="margin: 0in 0in 10pt\; font-family: arial\, helvetica\, sans-serif\; font-size: 16px\;"><span style="font-size: 14pt\;">Tickets are $75 per person for this evening of Latin &ndash\; inspired fun. Attendees are invited to enter their favorite salsa in our salsa tasting contest\, followed by a&nbsp\;tapas-style\, south-of-the-border dinner. To keep up the heat\, we&rsquo\;ll have salsa dancers show us all how to salsa dance!&nbsp\;We promise you an evening that will THAW YOU&nbsp\;OUT!&nbsp\;</span></div>\n\n<div style="margin: 0in 0in 10pt\; font-family: arial\, helvetica\, sans-serif\; font-size: 16px\;"><span style="font-size: 14pt\;">Tickets must be purchased in advance by visiting our website at&nbsp\;<a href="http://www.plantingpossibilities.org/" rel="nofollow" style="color: rgb(17\, 85\, 204)\;" target="_blank"><font color="#2862c5">http://www.<wbr />plantingpossibilities.org/</font></a>\, emailing&nbsp\;<a href="mailto:info@plantingpossibilities.org" rel="nofollow" style="color: rgb(17\, 85\, 204)\;" target="_blank"><font color="#2862c5">info@plantingpossibilities.org</font></a><wbr />\, or calling&nbsp\;<a href="tel:219-237-9353" style="color: rgb(17\, 85\, 204)\;" target="_blank" value="+12192379353">219-237-9353</a>.</span></div>\n\n<div style="margin: 0in 0in 10pt\; font-family: arial\, helvetica\, sans-serif\; font-size: 16px\;"><span style="font-size: 14pt\;">Planting Possibilities is a&nbsp\;non-profit organization&nbsp\;whose mission is to build a greenhouse that employs\, job-trains\, and offers meaningful&nbsp\;daily activities to &nbsp\;adults with intellectual and developmental disabilities in Lake County\, Indiana.</span></div>\n\n<div style="margin: 0in 0in 10pt\; font-family: arial\, helvetica\, sans-serif\; font-size: 16px\;"><span style="font-size: 14pt\;">Proceeds from this event will help finance our gardening education program this Spring in collaboration with Campagna Academy in Schererville.</span></div>\n
LOCATION:InnsBrook Country Club\, Merrillville
UID:e.1835.459
SEQUENCE:3
DTSTAMP:20260420T110018Z
URL:https://members.munsterchamber.org/events/details/event-at-planting-possibilities-03-01-2014-459
END:VEVENT

END:VCALENDAR
