BEGIN:VCALENDAR
VERSION:2.0
PRODID:-//ChamberMaster//Event Calendar 2.0//EN
METHOD:PUBLISH
X-PUBLISHED-TTL:P3D
REFRESH-INTERVAL:P3D
CALSCALE:GREGORIAN
BEGIN:VEVENT
DTSTART:20140410T230000Z
DTEND:20140411T000000Z
X-MICROSOFT-CDO-ALLDAYEVENT:FALSE
SUMMARY:Event at North Point Orthopaedics
DESCRIPTION:Free Hip/Knee Pain Seminar!
X-ALT-DESC;FMTTYPE=text/html:<strong>Free Hip/Knee Pain Seminar!</strong><br />\n&nbsp\;
LOCATION:Centennial Park Clubhouse
UID:e.1835.461
SEQUENCE:3
DTSTAMP:20260420T090952Z
URL:https://members.munsterchamber.org/events/details/event-at-north-point-orthopaedics-04-10-2014-461
END:VEVENT

END:VCALENDAR
