BEGIN:VCALENDAR
VERSION:2.0
PRODID:-//ChamberMaster//Event Calendar 2.0//EN
METHOD:PUBLISH
X-PUBLISHED-TTL:P3D
REFRESH-INTERVAL:P3D
CALSCALE:GREGORIAN
BEGIN:VEVENT
DTSTART:20140423T000000Z
DTEND:20140423T010000Z
X-MICROSOFT-CDO-ALLDAYEVENT:FALSE
SUMMARY:Event at Laughter Yoga 4 U
DESCRIPTION:Join Tanaz in an interactive\, fun\, innovative laughter excercise routine where we laugh for the health of it. Let LAUGHTER WORK for YOU!!!!\n\nNo jokes\, only mirthful\, unconditional laughter. For all ages and capabilities. Learn to use your infinite and innate ability to laugh at ease even when facing problems.\n\nChanges brain chemistry within minutes. The only excercise routine that reduces physical\, psychological and social stress simultaneously.\n\nOne minute of a good belly laugh = 10 mins. on a rowing machine.!\n\nWhy leave laughter to chance when it is great for health and healing.
X-ALT-DESC;FMTTYPE=text/html:Join Tanaz in an interactive\, fun\, innovative laughter excercise routine where we laugh for the health of it. Let LAUGHTER WORK for YOU!!!!<br />\nNo jokes\, only mirthful\, unconditional laughter. For all ages and capabilities. Learn to use your infinite and innate ability to laugh at ease even when facing problems.<br />\nChanges brain chemistry within minutes. The only excercise routine that reduces physical\, psychological and social stress simultaneously.<br />\nOne minute of a good belly laugh = 10 mins. on a rowing machine.!<br />\nWhy leave laughter to chance when it is great for health and healing.
LOCATION:LAKE COUNTY PUBLIC LIBRARY\, Merrillville\, IN.
UID:e.1835.470
SEQUENCE:3
DTSTAMP:20260420T092718Z
URL:https://members.munsterchamber.org/events/details/event-at-laughter-yoga-4-u-04-22-2014-470
END:VEVENT

END:VCALENDAR
