BEGIN:VCALENDAR
VERSION:2.0
PRODID:-//ChamberMaster//Event Calendar 2.0//EN
METHOD:PUBLISH
X-PUBLISHED-TTL:P3D
REFRESH-INTERVAL:P3D
CALSCALE:GREGORIAN
BEGIN:VEVENT
DTSTART:20140207T000000Z
DTEND:20140207T020000Z
X-MICROSOFT-CDO-ALLDAYEVENT:FALSE
SUMMARY:Data\, A Love Story. How I Gamed Online Dating to Meet My Match
DESCRIPTION:Join us for an intellectually charged and fun evening featuring a professional    networking reception with special presentation and book signing by Amy Webb\, American author\, entrepreneur\, digital strategist and CEO of  Webbmedia Group.\n\n	 In 2013\, Amy published "Data\, A Love Story\," a bestselling book about the world of online dating\, consumer behavior and finding love via algorithms. Amy was featured on Good Morning America\, 20/20\, The View\, NPR and CNN\, and her book was covered by numerous media outlets\, including \n\n	People Magazine\, Time\, Wall Street Journal\, New York Times\, Washington Post\, Wired\, Elle\, Slate\, Huffington Post\, Grazia\, ReadWrite\, Mashable and many others. Data has since been translated into several languages and has garnered a worldwide audience.\n\n	Forty million people date online each year. Most don't find true love. Thanks to Data\, a Love Story\, their odds just got a whole lot better.\n\n	Amy hails from NW Indiana and is an alumna of Lake Central High School. Last year\, Forbes named Amy one of the "Women Changing The World\," while the Columbia Journalism Review included Amy on its "20 Women To Watch in Media" list.
X-ALT-DESC;FMTTYPE=text/html:<font face="Calibri" size="3">Join us for an intellectually charged and fun evening featuring a professional&nbsp\;&nbsp\;&nbsp\; networking reception with special presentation and book signing by Amy Webb\, American author\, entrepreneur\, digital strategist and CEO of&nbsp\; Webbmedia Group.</font>\n<p style="margin-bottom: 0pt\;">\n	<span lang="en-US" style="font-family: Calibri\; font-size: 7pt\;">&nbsp\;</span><span lang="en-US" style="font-family: Calibri\; font-size: 11pt\;">In 2013\, Amy published &ldquo\;Data\, A Love Story\,&rdquo\; a bestselling book about the world of online dating\, consumer behavior and finding love via algorithms. Amy was featured on Good Morning America\, 20/20\, The View\, NPR and CNN\, and her book was covered by numerous media outlets\, including </span></p>\n<p style="margin-bottom: 0pt\;">\n	<span lang="en-US" style="font-family: Calibri\; font-size: 11pt\;">People Magazine\, Time\, Wall Street Journal\, New York Times\, Washington Post\, Wired\, Elle\, Slate\, Huffington Post\, Grazia\, ReadWrite\, Mashable and many others. Data has since been translated into several languages and has garnered a worldwide audience.</span></p>\n<p style="margin-bottom: 0pt\;">\n	<span lang="en-US" style="font-family: Calibri\; font-size: 11pt\;">Forty million people date online each year. Most don&rsquo\;t find true love. Thanks to Data\, a Love Story\, their odds just got a whole lot better.</span></p>\n<p style="margin-bottom: 0pt\;">\n	<span lang="en-US" style="font-family: Calibri\; font-size: 11pt\;">Amy hails from NW Indiana and is an alumna of&nbsp\;Lake Central&nbsp\;High School. Last year\, Forbes named Amy one of the &ldquo\;Women Changing The World\,&rdquo\; while the Columbia Journalism Review included Amy on its &ldquo\;20 Women To Watch in Media&rdquo\; list. </span></p>\n
LOCATION:Gamba Ristorante\, 455 East 84th Drive\, Merrillville\, IN 46410
UID:e.1835.430
SEQUENCE:3
DTSTAMP:20260420T114902Z
URL:https://members.munsterchamber.org/events/details/data-a-love-story-how-i-gamed-online-dating-to-meet-my-match-02-06-2014-430
END:VEVENT

END:VCALENDAR
