BEGIN:VCALENDAR
VERSION:2.0
PRODID:-//ChamberMaster//Event Calendar 2.0//EN
METHOD:PUBLISH
X-PUBLISHED-TTL:P3D
REFRESH-INTERVAL:P3D
CALSCALE:GREGORIAN
BEGIN:VEVENT
DTSTART:20140508T230000Z
DTEND:20140509T010000Z
X-MICROSOFT-CDO-ALLDAYEVENT:FALSE
SUMMARY:CULINARY NIGHT AT THE CVPA
DESCRIPTION:
X-ALT-DESC;FMTTYPE=text/html:
LOCATION:The Center for Visual and Performing Arts 1040 Ridge Road Munster\, IN
UID:e.1835.462
SEQUENCE:3
DTSTAMP:20260420T075442Z
URL:https://members.munsterchamber.org/events/details/culinary-night-at-the-cvpa-05-08-2014-462
END:VEVENT

END:VCALENDAR
