BEGIN:VCALENDAR
VERSION:2.0
PRODID:-//ChamberMaster//Event Calendar 2.0//EN
METHOD:PUBLISH
X-PUBLISHED-TTL:P3D
REFRESH-INTERVAL:P3D
CALSCALE:GREGORIAN
BEGIN:VEVENT
DTSTART:20140505T160000Z
DTEND:20140506T030000Z
X-MICROSOFT-CDO-ALLDAYEVENT:FALSE
SUMMARY:Cinco De Mayo @ El Salto
DESCRIPTION:El Salto will be celebrating Cinco de Mayo with a bang! There will be plenty of Fun & Festivities at the Munster location. LIVE Latin Music will begin at 7pm. Don't miss the Food & Drink Specials!
X-ALT-DESC;FMTTYPE=text/html:El Salto will be celebrating Cinco de Mayo with a bang! There will be plenty of Fun &amp\; Festivities at the Munster location. LIVE Latin Music will begin at 7pm. Don&#39\;t miss the Food &amp\; Drink Specials!
LOCATION:805 Ridge Rd. Munster\, Indiana
UID:e.1835.472
SEQUENCE:3
DTSTAMP:20260420T075433Z
URL:https://members.munsterchamber.org/events/details/cinco-de-mayo-el-salto-05-05-2014-472
END:VEVENT

END:VCALENDAR
