BEGIN:VCALENDAR
VERSION:2.0
PRODID:-//ChamberMaster//Event Calendar 2.0//EN
METHOD:PUBLISH
X-PUBLISHED-TTL:P3D
REFRESH-INTERVAL:P3D
CALSCALE:GREGORIAN
BEGIN:VEVENT
DTSTART:20150928T133000Z
DTEND:20150929T023000Z
X-MICROSOFT-CDO-ALLDAYEVENT:FALSE
SUMMARY:Chili Cook Off
DESCRIPTION:Volunteer Sign up\n\nPrepare  for chefs: Labels for cups\, package napkins\, spoons etc.\n\nMystery Raffle update\n\nReview Program
X-ALT-DESC;FMTTYPE=text/html:Volunteer Sign up<br />\nPrepare&nbsp\; for chefs: Labels for cups\, package napkins\, spoons etc.<br />\nMystery Raffle update<br />\nReview Program
LOCATION:Center for Visual and Performing Arts 1040 Ridge Road Munster\, IN
UID:e.1835.3023
SEQUENCE:3
DTSTAMP:20260421T230212Z
URL:https://members.munsterchamber.org/events/details/chili-cook-off-09-28-2015-3023
END:VEVENT

END:VCALENDAR
