BEGIN:VCALENDAR
VERSION:2.0
PRODID:-//ChamberMaster//Event Calendar 2.0//EN
METHOD:PUBLISH
X-PUBLISHED-TTL:P3D
REFRESH-INTERVAL:P3D
CALSCALE:GREGORIAN
BEGIN:VEVENT
DTSTART:20150701T183000Z
DTEND:20150701T203000Z
X-MICROSOFT-CDO-ALLDAYEVENT:FALSE
SUMMARY:Chamber Executive Meeting
DESCRIPTION:Northwest Indiana Chamber Executives Meeting\n\n\n\n1:30 - 2:00 pm Chamber Executive Meeting\n\n2:00 - 3:00 pm The Times\, Buy Local\n\n3:00 - conclude meeting and discussion
X-ALT-DESC;FMTTYPE=text/html:Northwest Indiana Chamber Executives Meeting<br />\n<br />\n1:30 - 2:00 pm Chamber Executive Meeting<br />\n2:00 - 3:00 pm The Times\, Buy Local<br />\n3:00 - conclude meeting and discussion&nbsp\;&nbsp\;&nbsp\;&nbsp\;
LOCATION:The Center for Visual and Performing Arts 1040 Ridge Road Munster\, IN Meeting Room First Floor\, behind the Box Office
UID:e.1835.2886
SEQUENCE:3
DTSTAMP:20260422T013307Z
URL:https://members.munsterchamber.org/events/details/chamber-executive-meeting-07-01-2015-2886
END:VEVENT

END:VCALENDAR
