BEGIN:VCALENDAR
VERSION:2.0
PRODID:-//ChamberMaster//Event Calendar 2.0//EN
METHOD:PUBLISH
X-PUBLISHED-TTL:P3D
REFRESH-INTERVAL:P3D
CALSCALE:GREGORIAN
BEGIN:VEVENT
DTSTART:20141002T130000Z
DTEND:20141002T190000Z
X-MICROSOFT-CDO-ALLDAYEVENT:FALSE
SUMMARY:Career Path Expo hosted by My Interview Advantage
DESCRIPTION:My Interview Advantage is a local training / consulting firm designed to match qualified applicants with companies who are either hiring or intend to do so within the foreseeable future.\n\nAt our upcoming Career Path Expo\, we are seeking individuals who are interested in interviewing with local companies.  Our Career Path Expo is different from other "job fair" events\, in that My Interview Advantage pre-qualifies applicants to your selected positions prior to the event.  \n\nMy Interview Advantage events are capped at 100 applicants\, which means you will be able to spend ample time with employers and not feel inundated with hundreds of people waiting in line.\n\nMy Interview Advantage events are competiviely priced and well worth your time to target a quality job in your specific field.\n\nIn addition\, there will be an Interview Skills workshop\, which will be conducted as a thirty (30) minute session prior to the actual interviews\, consists of several topics.  Personal Branding will be a topic discussed\, which will allow the applicant the opportunity to develop a clear and concise opening statement to the interview with the employer.  Secondly\, various types of interview questions will be introduced.  This will give the applicant somewhat of an idea as to what questions to expect during an actual interview.  Lastly\, a formula for structuring answers to interview questions will be introduced.  The system\, if followed\, can produce clearer and more concise answers to interview questions which will enhance the chances of a job offer being extended!
X-ALT-DESC;FMTTYPE=text/html:<p><span style="line-height: 125%\; font-family: arial\, helvetica\, sans-serif\; font-size: small\;">My Interview Advantage is a local training / consulting firm designed to match qualified applicants with companies who are either hiring or intend to do so within the foreseeable future.</span></p>\n\n<p><span style="line-height: 125%\; font-family: arial\, helvetica\, sans-serif\; font-size: small\;">At our upcoming <strong>Career Path Expo</strong>\, we are seeking individuals who are interested in interviewing with local<span style="line-height: 16px\;">&nbsp\;companies</span>.&nbsp\; Our Career Path Expo is different from other &ldquo\;job fair&rdquo\; events\, in that My Interview Advantage pre-qualifies applicants to your selected positions prior to the event.&nbsp\; </span></p>\n\n<p><span style="line-height: 125%\; font-family: arial\, helvetica\, sans-serif\; font-size: small\;">My Interview Advantage events are capped at 100 applicants\, which means you will be able to spend ample time with employers and not feel inundated with hundreds of people waiting in line.</span></p>\n\n<p><span style="line-height: 125%\; font-family: arial\, helvetica\, sans-serif\; font-size: small\;">My Interview Advantage events are competiviely priced and well worth your time to target a quality job in your specific field.</span></p>\n\n<p><span style="font-family: arial\, helvetica\, sans-serif\; font-size: small\;"><span style="color: rgb(34\, 34\, 34)\; line-height: 17px\;">In addition\, there will be an&nbsp\;</span><span style="line-height: 17px\;">Interview Skills workshop\, which will be conducted as a thirty (30) minute session prior to the actual interviews\, consists of several topics.</span><span style="line-height: 17px\;">&nbsp\;&nbsp\;</span><span style="line-height: 17px\;">Personal Branding will be a topic discussed\, which will allow the applicant the opportunity to develop a clear and concise opening statement to the interview with the employer.</span><span style="line-height: 17px\;">&nbsp\;&nbsp\;</span><span style="line-height: 17px\;">Secondly\, various types of interview questions will be introduced.</span><span style="line-height: 17px\;">&nbsp\;&nbsp\;</span><span style="line-height: 17px\;">This will give the applicant somewhat of an idea as to what questions to expect during an actual interview.</span><span style="line-height: 17px\;">&nbsp\;&nbsp\;</span><span style="line-height: 17px\;">Lastly\, a formula for structuring answers to interview questions will be introduced.</span><span style="line-height: 17px\;">&nbsp\;&nbsp\;</span><span style="line-height: 17px\;">The system\, if followed\, can produce clearer and more concise answers to interview questions&hellip\;which will enhance the chances of a job offer being extended!</span>&nbsp\;</span></p>\n
LOCATION:Hampton Inn and Suites 8936 Calumet Ave. Munster\, IN 46321
UID:e.1835.1526
SEQUENCE:3
DTSTAMP:20260419T233734Z
URL:https://members.munsterchamber.org/events/details/career-path-expo-hosted-by-my-interview-advantage-10-02-2014-1526
END:VEVENT

END:VCALENDAR
