BEGIN:VCALENDAR
VERSION:2.0
PRODID:-//ChamberMaster//Event Calendar 2.0//EN
METHOD:PUBLISH
X-PUBLISHED-TTL:P3D
REFRESH-INTERVAL:P3D
CALSCALE:GREGORIAN
BEGIN:VEVENT
DTSTART:20151029T213000Z
DTEND:20151029T233000Z
X-MICROSOFT-CDO-ALLDAYEVENT:FALSE
SUMMARY:Business After Hours - Tradwinds Services\, Inc.
DESCRIPTION:
X-ALT-DESC;FMTTYPE=text/html:
LOCATION:
UID:e.1835.3025
SEQUENCE:3
DTSTAMP:20260421T214945Z
URL:https://members.munsterchamber.org/events/details/business-after-hours-tradwinds-services-inc-10-29-2015-3025
END:VEVENT

END:VCALENDAR
